BEGIN:VCALENDAR
VERSION:2.0
PRODID:-//Foster Angels of South Texas - ECPv6.14.0//NONSGML v1.0//EN
CALSCALE:GREGORIAN
METHOD:PUBLISH
X-WR-CALNAME:Foster Angels of South Texas
X-ORIGINAL-URL:https://fosterangelsstx.org
X-WR-CALDESC:Events for Foster Angels of South Texas
REFRESH-INTERVAL;VALUE=DURATION:PT1H
X-Robots-Tag:noindex
X-PUBLISHED-TTL:PT1H
BEGIN:VTIMEZONE
TZID:America/Toronto
BEGIN:DAYLIGHT
TZOFFSETFROM:-0500
TZOFFSETTO:-0400
TZNAME:EDT
DTSTART:20250309T070000
END:DAYLIGHT
BEGIN:STANDARD
TZOFFSETFROM:-0400
TZOFFSETTO:-0500
TZNAME:EST
DTSTART:20251102T060000
END:STANDARD
END:VTIMEZONE
BEGIN:VEVENT
DTSTART;VALUE=DATE:20251104
DTEND;VALUE=DATE:20251105
DTSTAMP:20260420T122925
CREATED:20200923T185037Z
LAST-MODIFIED:20250902T172225Z
UID:3749-1762214400-1762300799@fosterangelsstx.org
SUMMARY:Coastal Bend Day of Giving
DESCRIPTION:Join us for 24-hour giving to support children in foster care in the Coastal Bend. You can pre-schedule your donation from October 27 to November 3 or join our community on November 4\, 2025. \n			\n				Pre-Schedule Your Donation Here
URL:https://fosterangelsstx.org/event/coastal-bend-day-of-giving/
LOCATION:TX
ATTACH;FMTTYPE=image/png:https://fosterangelsstx.org/wp-content/uploads/2020/09/DOG-2025-Logo.png
END:VEVENT
BEGIN:VEVENT
DTSTART;VALUE=DATE:20251107
DTEND;VALUE=DATE:20251108
DTSTAMP:20260420T122925
CREATED:20250902T185118Z
LAST-MODIFIED:20250902T185118Z
UID:6438-1762473600-1762559999@fosterangelsstx.org
SUMMARY:Focus on a Foster Teen Holiday Gift Drive 2025
DESCRIPTION:Make the holidays extra special for a teen in foster care this year by sponsoring a foster teen’s wish list!
URL:https://fosterangelsstx.org/event/focus-on-a-foster-teen-holiday-gift-drive-2025/
LOCATION:TX
ATTACH;FMTTYPE=image/png:https://fosterangelsstx.org/wp-content/uploads/2025/02/FAST-LOGOS-MASTER-5.png
END:VEVENT
BEGIN:VEVENT
DTSTART;TZID=America/Toronto:20251114T090000
DTEND;TZID=America/Toronto:20251114T090000
DTSTAMP:20260420T122925
CREATED:20251017T151752Z
LAST-MODIFIED:20251020T202801Z
UID:6464-1763110800-1763110800@fosterangelsstx.org
SUMMARY:Heart Gallery Brunch
DESCRIPTION:Corpus Christi Brunch RSVP\n                             \n                        \n                        Contact DetailsName(Required)\n                            \n                            \n                                                    First\n                                                    \n                                                \n                            \n                            \n                                                            Last\n                                                            \n                                                        \n                            \n                        Email(Required)\n                            \n                        Additional Guest\n                            \n                            \n                                                    First\n                                                    \n                                                \n                            \n                            \n                                                            Last\n                                                            \n                                                        \n                            \n                        Email\n                            \n                        Additional Guest\n                            \n                            \n                                                    First\n                                                    \n                                                \n                            \n                            \n                                                            Last\n                                                            \n                                                        \n                            \n                        Email\n                            \n                        \n          \n            \n            \n            \n            \n            \n            \n            \n            \n            \n            \n            \n            \n        \n                        Δ
URL:https://fosterangelsstx.org/event/corpus-christi-adoption-event/
LOCATION:Corpus Christi Yacht Club\, 98 Coopers Alley\, Corpus Christi\, TX\, 78410\, United States
ATTACH;FMTTYPE=image/png:https://fosterangelsstx.org/wp-content/uploads/2025/10/Annual-Events-2025.png
END:VEVENT
BEGIN:VEVENT
DTSTART;TZID=America/Toronto:20251120T180000
DTEND;TZID=America/Toronto:20251120T180000
DTSTAMP:20260420T122925
CREATED:20251020T212023Z
LAST-MODIFIED:20251023T181133Z
UID:6480-1763661600-1763661600@fosterangelsstx.org
SUMMARY:Heart Gallery Celebration - Laredo
DESCRIPTION:Heart Gallery Celebration RSVP\n                             \n                        \n                        Contact DetailsName(Required)\n                            \n                            \n                                                    First\n                                                    \n                                                \n                            \n                            \n                                                            Last\n                                                            \n                                                        \n                            \n                        Email(Required)\n                            \n                        Additional Guest\n                            \n                            \n                                                    First\n                                                    \n                                                \n                            \n                            \n                                                            Last\n                                                            \n                                                        \n                            \n                        Email\n                            \n                        Additional Guest\n                            \n                            \n                                                    First\n                                                    \n                                                \n                            \n                            \n                                                            Last\n                                                            \n                                                        \n                            \n                        Email\n                            \n                        \n          \n            \n            \n            \n            \n            \n            \n            \n            \n            \n            \n            \n            \n        \n                        Δ
URL:https://fosterangelsstx.org/event/laredo-adoption-event/
LOCATION:Grace Bible Church\, 9901 Springfield Ave\, Laredo\, TX\, 78045\, United States
ATTACH;FMTTYPE=image/jpeg:https://fosterangelsstx.org/wp-content/uploads/2025/10/Annual-Events-2025-3.jpg
END:VEVENT
END:VCALENDAR