BEGIN:VCALENDAR
VERSION:2.0
PRODID:-//Foster Angels of South Texas - ECPv6.14.0//NONSGML v1.0//EN
CALSCALE:GREGORIAN
METHOD:PUBLISH
X-WR-CALNAME:Foster Angels of South Texas
X-ORIGINAL-URL:https://fosterangelsstx.org
X-WR-CALDESC:Events for Foster Angels of South Texas
REFRESH-INTERVAL;VALUE=DURATION:PT1H
X-Robots-Tag:noindex
X-PUBLISHED-TTL:PT1H
BEGIN:VTIMEZONE
TZID:America/Toronto
BEGIN:DAYLIGHT
TZOFFSETFROM:-0500
TZOFFSETTO:-0400
TZNAME:EDT
DTSTART:20230312T070000
END:DAYLIGHT
BEGIN:STANDARD
TZOFFSETFROM:-0400
TZOFFSETTO:-0500
TZNAME:EST
DTSTART:20231105T060000
END:STANDARD
END:VTIMEZONE
BEGIN:VEVENT
DTSTART;TZID=America/Toronto:20230320T120000
DTEND;TZID=America/Toronto:20230320T133000
DTSTAMP:20260422T132751
CREATED:20230223T220057Z
LAST-MODIFIED:20230301T232920Z
UID:4643-1679313600-1679319000@fosterangelsstx.org
SUMMARY:Caseworker Appreciation Lunch
DESCRIPTION:Caseworker Appreciation Notes\n                             \n                        \n                        Name\n                            \n                            \n                                                    \n                                                    First\n                                                \n                            \n                            \n                                                    \n                                                    Last\n                                                \n                            \n                        Your note of encouragement or appreciation*\n          \n            \n            \n            \n            \n            \n            \n            \n            \n            \n            \n            \n            \n        \n                        Δ
URL:https://fosterangelsstx.org/event/caseworker-appreciation-lunch/
LOCATION:Brewster Street Ice House\, 1724 N Tancahua Street\, Corpus Christi\, Texas
ATTACH;FMTTYPE=image/png:https://fosterangelsstx.org/wp-content/uploads/2023/02/Copy-of-CWA-2023-Corpus.png
END:VEVENT
END:VCALENDAR