BEGIN:VCALENDAR
VERSION:2.0
PRODID:-//Foster Angels of South Texas - ECPv6.14.0//NONSGML v1.0//EN
CALSCALE:GREGORIAN
METHOD:PUBLISH
X-WR-CALNAME:Foster Angels of South Texas
X-ORIGINAL-URL:https://fosterangelsstx.org
X-WR-CALDESC:Events for Foster Angels of South Texas
REFRESH-INTERVAL;VALUE=DURATION:PT1H
X-Robots-Tag:noindex
X-PUBLISHED-TTL:PT1H
BEGIN:VTIMEZONE
TZID:America/Toronto
BEGIN:DAYLIGHT
TZOFFSETFROM:-0500
TZOFFSETTO:-0400
TZNAME:EDT
DTSTART:20220313T070000
END:DAYLIGHT
BEGIN:STANDARD
TZOFFSETFROM:-0400
TZOFFSETTO:-0500
TZNAME:EST
DTSTART:20221106T060000
END:STANDARD
END:VTIMEZONE
BEGIN:VEVENT
DTSTART;VALUE=DATE:20220401
DTEND;VALUE=DATE:20220402
DTSTAMP:20260423T074843
CREATED:20220209T044621Z
LAST-MODIFIED:20220209T044621Z
UID:4344-1648771200-1648857599@fosterangelsstx.org
SUMMARY:Soaring Scholars Application Goes Live
DESCRIPTION:Return here for more details when the application goes live.
URL:https://fosterangelsstx.org/event/soaring-scholars-application-goes-live/
LOCATION:TX
ATTACH;FMTTYPE=image/png:https://fosterangelsstx.org/wp-content/uploads/2020/06/scholar-cap-pink.png
END:VEVENT
BEGIN:VEVENT
DTSTART;VALUE=DATE:20220429
DTEND;VALUE=DATE:20220430
DTSTAMP:20260423T074843
CREATED:20220209T044520Z
LAST-MODIFIED:20220209T044520Z
UID:4341-1651190400-1651276799@fosterangelsstx.org
SUMMARY:Party With A Purpose
DESCRIPTION:Save the Date! Party with a Purpose will return on April 29\, 2022. \n 
URL:https://fosterangelsstx.org/event/party-with-a-purpose-2/
LOCATION:TX
ATTACH;FMTTYPE=image/png:https://fosterangelsstx.org/wp-content/uploads/2022/02/pwap.png
END:VEVENT
END:VCALENDAR