BEGIN:VCALENDAR
VERSION:2.0
PRODID:-//Foster Angels of South Texas - ECPv6.14.0//NONSGML v1.0//EN
CALSCALE:GREGORIAN
METHOD:PUBLISH
X-ORIGINAL-URL:https://fosterangelsstx.org
X-WR-CALDESC:Events for Foster Angels of South Texas
REFRESH-INTERVAL;VALUE=DURATION:PT1H
X-Robots-Tag:noindex
X-PUBLISHED-TTL:PT1H
BEGIN:VTIMEZONE
TZID:America/Toronto
BEGIN:DAYLIGHT
TZOFFSETFROM:-0500
TZOFFSETTO:-0400
TZNAME:EDT
DTSTART:20250309T070000
END:DAYLIGHT
BEGIN:STANDARD
TZOFFSETFROM:-0400
TZOFFSETTO:-0500
TZNAME:EST
DTSTART:20251102T060000
END:STANDARD
END:VTIMEZONE
BEGIN:VEVENT
DTSTART;TZID=America/Toronto:20251120T180000
DTEND;TZID=America/Toronto:20251120T180000
DTSTAMP:20260420T134810
CREATED:20251020T212023Z
LAST-MODIFIED:20251023T181133Z
UID:6480-1763661600-1763661600@fosterangelsstx.org
SUMMARY:Heart Gallery Celebration - Laredo
DESCRIPTION:Heart Gallery Celebration RSVP\n                             \n                        \n                        Contact DetailsName(Required)\n                            \n                            \n                                                    First\n                                                    \n                                                \n                            \n                            \n                                                            Last\n                                                            \n                                                        \n                            \n                        Email(Required)\n                            \n                        Additional Guest\n                            \n                            \n                                                    First\n                                                    \n                                                \n                            \n                            \n                                                            Last\n                                                            \n                                                        \n                            \n                        Email\n                            \n                        Additional Guest\n                            \n                            \n                                                    First\n                                                    \n                                                \n                            \n                            \n                                                            Last\n                                                            \n                                                        \n                            \n                        Email\n                            \n                        \n          \n            \n            \n            \n            \n            \n            \n            \n            \n            \n            \n            \n            \n        \n                        Δ
URL:https://fosterangelsstx.org/event/laredo-adoption-event/
LOCATION:Grace Bible Church\, 9901 Springfield Ave\, Laredo\, TX\, 78045\, United States
ATTACH;FMTTYPE=image/jpeg:https://fosterangelsstx.org/wp-content/uploads/2025/10/Annual-Events-2025-3.jpg
END:VEVENT
END:VCALENDAR