BEGIN:VCALENDAR
VERSION:2.0
PRODID:-//Foster Angels of South Texas - ECPv6.14.0//NONSGML v1.0//EN
CALSCALE:GREGORIAN
METHOD:PUBLISH
X-WR-CALNAME:Foster Angels of South Texas
X-ORIGINAL-URL:https://fosterangelsstx.org
X-WR-CALDESC:Events for Foster Angels of South Texas
REFRESH-INTERVAL;VALUE=DURATION:PT1H
X-Robots-Tag:noindex
X-PUBLISHED-TTL:PT1H
BEGIN:VTIMEZONE
TZID:America/Toronto
BEGIN:DAYLIGHT
TZOFFSETFROM:-0500
TZOFFSETTO:-0400
TZNAME:EDT
DTSTART:20250309T070000
END:DAYLIGHT
BEGIN:STANDARD
TZOFFSETFROM:-0400
TZOFFSETTO:-0500
TZNAME:EST
DTSTART:20251102T060000
END:STANDARD
END:VTIMEZONE
BEGIN:VEVENT
DTSTART;TZID=America/Toronto:20250401T080000
DTEND;TZID=America/Toronto:20250517T170000
DTSTAMP:20260420T225658
CREATED:20240402T195830Z
LAST-MODIFIED:20250402T182125Z
UID:5464-1743494400-1747501200@fosterangelsstx.org
SUMMARY:Soaring Scholars Applications Now Open!
DESCRIPTION:The Soaring Scholars application will open to new applicants on April 1\, 2025.\nThe application window will close on May 16\, 2024. \nFor questions contact heather@fosterangelsstx.org \nApply here: Scholarship | Foster Angels of South Texas (fosterangelsstx.org)
URL:https://fosterangelsstx.org/event/5464/
LOCATION:TX
ATTACH;FMTTYPE=image/png:https://fosterangelsstx.org/wp-content/uploads/2024/04/Soaring-Scholar-Applications-Open.png
END:VEVENT
BEGIN:VEVENT
DTSTART;TZID=America/Toronto:20250514T113000
DTEND;TZID=America/Toronto:20250514T133000
DTSTAMP:20260420T225658
CREATED:20250218T222105Z
LAST-MODIFIED:20250321T175507Z
UID:6161-1747222200-1747229400@fosterangelsstx.org
SUMMARY:Rio Grande Valley Rising Stars Luncheon
DESCRIPTION:Foster Angels of South Texas is hosting our 4th annual Rio Grande Valley Luncheon\, newly named Rising Stars Luncheon! We will celebrate our Strength in Adversity Honorees as they work towards their goals despite their experiences in foster care. Our Grammy award-winning guest speaker\, SaulPaul\, will share his lived experience in foster care and motivate our guests. This is always a special afternoon- you don’t want to miss it!\n			\n				Details Here
URL:https://fosterangelsstx.org/event/rio-grande-valley-luncheon-3/
LOCATION:Edinburg Conference Center\, 118 Paseo Del Prado\, Edinburg\, TX\, 78539\, United States
ATTACH;FMTTYPE=image/jpeg:https://fosterangelsstx.org/wp-content/uploads/2025/02/FAST-RGV_2025Luncheon-SavetheDate-IG-1.jpg
END:VEVENT
END:VCALENDAR